BEGIN:VCALENDAR
VERSION:2.0
PRODID:spatie/icalendar-generator
NAME:Performing Preparation\, Compilation and Review Engagements
X-WR-CALNAME:Performing Preparation\, Compilation and Review Engagements
BEGIN:VTIMEZONE
TZID:America/New_York
BEGIN:STANDARD
DTSTART:20261101T010000
TZOFFSETFROM:-0400
TZOFFSETTO:-0500
END:STANDARD
BEGIN:DAYLIGHT
DTSTART:20270314T010000
TZOFFSETFROM:-0500
TZOFFSETTO:-0400
END:DAYLIGHT
END:VTIMEZONE
BEGIN:VTIMEZONE
TZID:UTC
BEGIN:STANDARD
DTSTART:20250727T230106
TZOFFSETFROM:+0000
TZOFFSETTO:+0000
END:STANDARD
END:VTIMEZONE
BEGIN:VEVENT
UID:69eaa4b2cd487
DTSTAMP:20260423T230106Z
SUMMARY:Performing Preparation\, Compilation and Review Engagements
LOCATION: 
URL:https://macpa.org/catalog/events/21569959-performing-preparation-compil
 ation-and-review-engagements-2027-22-04
DTSTART;TZID=America/New_York:20270422T090000
DTEND;TZID=America/New_York:20270422T110000
END:VEVENT
END:VCALENDAR