BEGIN:VCALENDAR
VERSION:2.0
PRODID:spatie/icalendar-generator
NAME:Conducting a Remote Audit
X-WR-CALNAME:Conducting a Remote Audit
BEGIN:VTIMEZONE
TZID:America/New_York
BEGIN:STANDARD
DTSTART:20261101T010000
TZOFFSETFROM:-0400
TZOFFSETTO:-0500
END:STANDARD
BEGIN:DAYLIGHT
DTSTART:20270314T010000
TZOFFSETFROM:-0500
TZOFFSETTO:-0400
END:DAYLIGHT
END:VTIMEZONE
BEGIN:VTIMEZONE
TZID:UTC
BEGIN:STANDARD
DTSTART:20250727T230457
TZOFFSETFROM:+0000
TZOFFSETTO:+0000
END:STANDARD
END:VTIMEZONE
BEGIN:VEVENT
UID:69eaa59911c11
DTSTAMP:20260423T230457Z
SUMMARY:Conducting a Remote Audit
LOCATION: 
URL:https://macpa.org/catalog/events/21569948-conducting-a-remote-audit-202
 7-21-04
DTSTART;TZID=America/New_York:20270421T090000
DTEND;TZID=America/New_York:20270421T130000
END:VEVENT
END:VCALENDAR