BEGIN:VCALENDAR
VERSION:2.0
PRODID:spatie/icalendar-generator
NAME:Excel for Accounting Professionals Session 8: Dynamic Headers\, Mappin
 g Tables and Error Check
X-WR-CALNAME:Excel for Accounting Professionals Session 8: Dynamic Headers\
 , Mapping Tables and Error Check
BEGIN:VTIMEZONE
TZID:America/New_York
BEGIN:STANDARD
DTSTART:20261101T010000
TZOFFSETFROM:-0400
TZOFFSETTO:-0500
END:STANDARD
BEGIN:DAYLIGHT
DTSTART:20270314T010000
TZOFFSETFROM:-0500
TZOFFSETTO:-0400
END:DAYLIGHT
END:VTIMEZONE
BEGIN:VTIMEZONE
TZID:UTC
BEGIN:STANDARD
DTSTART:20250727T230244
TZOFFSETFROM:+0000
TZOFFSETTO:+0000
END:STANDARD
END:VTIMEZONE
BEGIN:VEVENT
UID:69eaa5141201c
DTSTAMP:20260423T230244Z
SUMMARY:Excel for Accounting Professionals Session 8: Dynamic Headers\, Map
 ping Tables and Error Check
LOCATION: 
URL:https://macpa.org/catalog/events/21569877-excel-for-accounting-professi
 onals-session-8-dynamic-headers-mapping-tables-and-error-check-2027-30-03
DTSTART;TZID=America/New_York:20270330T090000
DTEND;TZID=America/New_York:20270330T123000
END:VEVENT
END:VCALENDAR