BEGIN:VCALENDAR
VERSION:2.0
PRODID:spatie/icalendar-generator
NAME:Auditing Digital Assets: Considerations for Valuation
X-WR-CALNAME:Auditing Digital Assets: Considerations for Valuation
BEGIN:VTIMEZONE
TZID:America/New_York
BEGIN:STANDARD
DTSTART:20261101T010000
TZOFFSETFROM:-0400
TZOFFSETTO:-0500
END:STANDARD
BEGIN:DAYLIGHT
DTSTART:20270314T010000
TZOFFSETFROM:-0500
TZOFFSETTO:-0400
END:DAYLIGHT
END:VTIMEZONE
BEGIN:VTIMEZONE
TZID:UTC
BEGIN:STANDARD
DTSTART:20250727T225617
TZOFFSETFROM:+0000
TZOFFSETTO:+0000
END:STANDARD
END:VTIMEZONE
BEGIN:VEVENT
UID:69eaa391b8690
DTSTAMP:20260423T225617Z
SUMMARY:Auditing Digital Assets: Considerations for Valuation
LOCATION: 
URL:https://macpa.org/catalog/events/21569822-auditing-digital-assets-consi
 derations-for-valuation-2027-17-03
DTSTART;TZID=America/New_York:20270317T100000
DTEND;TZID=America/New_York:20270317T110000
END:VEVENT
END:VCALENDAR