BEGIN:VCALENDAR
VERSION:2.0
PRODID:spatie/icalendar-generator
NAME:Excel for Accounting Professionals Session 5: Error Trapping and Impro
 ving Lookups
X-WR-CALNAME:Excel for Accounting Professionals Session 5: Error Trapping a
 nd Improving Lookups
BEGIN:VTIMEZONE
TZID:America/New_York
BEGIN:STANDARD
DTSTART:20261101T010000
TZOFFSETFROM:-0400
TZOFFSETTO:-0500
END:STANDARD
BEGIN:DAYLIGHT
DTSTART:20270314T010000
TZOFFSETFROM:-0500
TZOFFSETTO:-0400
END:DAYLIGHT
END:VTIMEZONE
BEGIN:VTIMEZONE
TZID:UTC
BEGIN:STANDARD
DTSTART:20250727T230340
TZOFFSETFROM:+0000
TZOFFSETTO:+0000
END:STANDARD
END:VTIMEZONE
BEGIN:VEVENT
UID:69eaa54c31fcb
DTSTAMP:20260423T230340Z
SUMMARY:Excel for Accounting Professionals Session 5: Error Trapping and Im
 proving Lookups
LOCATION: 
URL:https://macpa.org/catalog/events/21569804-excel-for-accounting-professi
 onals-session-5-error-trapping-and-improving-lookups-2027-05-03
DTSTART;TZID=America/New_York:20270305T090000
DTEND;TZID=America/New_York:20270305T110000
END:VEVENT
END:VCALENDAR