BEGIN:VCALENDAR
VERSION:2.0
PRODID:spatie/icalendar-generator
NAME:Auditing digital assets: Client acceptance and continuance\, risk asse
 ssment\, and laws regulations and related parties
X-WR-CALNAME:Auditing digital assets: Client acceptance and continuance\, r
 isk assessment\, and laws regulations and related parties
BEGIN:VTIMEZONE
TZID:America/New_York
BEGIN:STANDARD
DTSTART:20261101T010000
TZOFFSETFROM:-0400
TZOFFSETTO:-0500
END:STANDARD
BEGIN:DAYLIGHT
DTSTART:20270314T010000
TZOFFSETFROM:-0500
TZOFFSETTO:-0400
END:DAYLIGHT
END:VTIMEZONE
BEGIN:VTIMEZONE
TZID:UTC
BEGIN:STANDARD
DTSTART:20250727T230341
TZOFFSETFROM:+0000
TZOFFSETTO:+0000
END:STANDARD
END:VTIMEZONE
BEGIN:VEVENT
UID:69eaa54dac557
DTSTAMP:20260423T230341Z
SUMMARY:Auditing digital assets: Client acceptance and continuance\, risk a
 ssessment\, and laws regulations and related parties
LOCATION: 
URL:https://macpa.org/catalog/events/21569796-auditing-digital-assets-clien
 t-acceptance-and-continuance-risk-assessment-and-laws-regulations-and-rela
 ted-parties-2027-03-03
DTSTART;TZID=America/New_York:20270303T090000
DTEND;TZID=America/New_York:20270303T110000
END:VEVENT
END:VCALENDAR