BEGIN:VCALENDAR
VERSION:2.0
PRODID:spatie/icalendar-generator
NAME:Excel for Accounting Professionals Session 4: Conditional Summing and 
 Lookups
X-WR-CALNAME:Excel for Accounting Professionals Session 4: Conditional Summ
 ing and Lookups
BEGIN:VTIMEZONE
TZID:America/New_York
BEGIN:STANDARD
DTSTART:20261101T010000
TZOFFSETFROM:-0400
TZOFFSETTO:-0500
END:STANDARD
BEGIN:DAYLIGHT
DTSTART:20270314T010000
TZOFFSETFROM:-0500
TZOFFSETTO:-0400
END:DAYLIGHT
END:VTIMEZONE
BEGIN:VTIMEZONE
TZID:UTC
BEGIN:STANDARD
DTSTART:20250727T230345
TZOFFSETFROM:+0000
TZOFFSETTO:+0000
END:STANDARD
END:VTIMEZONE
BEGIN:VEVENT
UID:69eaa55159e14
DTSTAMP:20260423T230345Z
SUMMARY:Excel for Accounting Professionals Session 4: Conditional Summing a
 nd Lookups
LOCATION: 
URL:https://macpa.org/catalog/events/21569788-excel-for-accounting-professi
 onals-session-4-conditional-summing-and-lookups-2027-26-02
DTSTART;TZID=America/New_York:20270226T120000
DTEND;TZID=America/New_York:20270226T140000
END:VEVENT
END:VCALENDAR