BEGIN:VCALENDAR
VERSION:2.0
PRODID:spatie/icalendar-generator
NAME:Streamlined Excel Reporting Series Session 3: PivotTable Wrap-Up and W
 eb Data
X-WR-CALNAME:Streamlined Excel Reporting Series Session 3: PivotTable Wrap-
 Up and Web Data
BEGIN:VTIMEZONE
TZID:America/New_York
BEGIN:STANDARD
DTSTART:20261101T010000
TZOFFSETFROM:-0400
TZOFFSETTO:-0500
END:STANDARD
BEGIN:DAYLIGHT
DTSTART:20270314T010000
TZOFFSETFROM:-0500
TZOFFSETTO:-0400
END:DAYLIGHT
END:VTIMEZONE
BEGIN:VTIMEZONE
TZID:UTC
BEGIN:STANDARD
DTSTART:20250727T225947
TZOFFSETFROM:+0000
TZOFFSETTO:+0000
END:STANDARD
END:VTIMEZONE
BEGIN:VEVENT
UID:69eaa463d6cf5
DTSTAMP:20260423T225947Z
SUMMARY:Streamlined Excel Reporting Series Session 3: PivotTable Wrap-Up an
 d Web Data
LOCATION: 
URL:https://macpa.org/catalog/events/21569740-streamlined-excel-reporting-s
 eries-session-3-pivottable-wrap-up-and-web-data-2027-19-02
DTSTART;TZID=America/New_York:20270219T110000
DTEND;TZID=America/New_York:20270219T130000
END:VEVENT
END:VCALENDAR