BEGIN:VCALENDAR
VERSION:2.0
PRODID:spatie/icalendar-generator
NAME:Streamlined Excel Reporting Series Session 2: Working with PivotTables
X-WR-CALNAME:Streamlined Excel Reporting Series Session 2: Working with Piv
 otTables
BEGIN:VTIMEZONE
TZID:America/New_York
BEGIN:STANDARD
DTSTART:20261101T010000
TZOFFSETFROM:-0400
TZOFFSETTO:-0500
END:STANDARD
BEGIN:DAYLIGHT
DTSTART:20270314T010000
TZOFFSETFROM:-0500
TZOFFSETTO:-0400
END:DAYLIGHT
END:VTIMEZONE
BEGIN:VTIMEZONE
TZID:UTC
BEGIN:STANDARD
DTSTART:20250727T225718
TZOFFSETFROM:+0000
TZOFFSETTO:+0000
END:STANDARD
END:VTIMEZONE
BEGIN:VEVENT
UID:69eaa3cea3d97
DTSTAMP:20260423T225718Z
SUMMARY:Streamlined Excel Reporting Series Session 2: Working with PivotTab
 les
LOCATION: 
URL:https://macpa.org/catalog/events/21569692-streamlined-excel-reporting-s
 eries-session-2-working-with-pivottables-2027-12-02
DTSTART;TZID=America/New_York:20270212T100000
DTEND;TZID=America/New_York:20270212T120000
END:VEVENT
END:VCALENDAR