BEGIN:VCALENDAR
VERSION:2.0
PRODID:spatie/icalendar-generator
NAME:Excel for Accounting Professionals Session 1: Tables and Named Referen
 ces
X-WR-CALNAME:Excel for Accounting Professionals Session 1: Tables and Named
  References
BEGIN:VTIMEZONE
TZID:America/New_York
BEGIN:STANDARD
DTSTART:20261101T010000
TZOFFSETFROM:-0400
TZOFFSETTO:-0500
END:STANDARD
BEGIN:DAYLIGHT
DTSTART:20270314T010000
TZOFFSETFROM:-0500
TZOFFSETTO:-0400
END:DAYLIGHT
END:VTIMEZONE
BEGIN:VTIMEZONE
TZID:UTC
BEGIN:STANDARD
DTSTART:20250727T230649
TZOFFSETFROM:+0000
TZOFFSETTO:+0000
END:STANDARD
END:VTIMEZONE
BEGIN:VEVENT
UID:69eaa60972f0c
DTSTAMP:20260423T230649Z
SUMMARY:Excel for Accounting Professionals Session 1: Tables and Named Refe
 rences
LOCATION: 
URL:https://macpa.org/catalog/events/21569661-excel-for-accounting-professi
 onals-session-1-tables-and-named-references-2027-05-02
DTSTART;TZID=America/New_York:20270205T090000
DTEND;TZID=America/New_York:20270205T110000
END:VEVENT
END:VCALENDAR