BEGIN:VCALENDAR
VERSION:2.0
PRODID:spatie/icalendar-generator
NAME:Auditing Financial Statements of ERISA Plans
X-WR-CALNAME:Auditing Financial Statements of ERISA Plans
BEGIN:VTIMEZONE
TZID:America/New_York
BEGIN:STANDARD
DTSTART:20261101T010000
TZOFFSETFROM:-0400
TZOFFSETTO:-0500
END:STANDARD
BEGIN:DAYLIGHT
DTSTART:20270314T010000
TZOFFSETFROM:-0500
TZOFFSETTO:-0400
END:DAYLIGHT
END:VTIMEZONE
BEGIN:VTIMEZONE
TZID:UTC
BEGIN:STANDARD
DTSTART:20250727T230643
TZOFFSETFROM:+0000
TZOFFSETTO:+0000
END:STANDARD
END:VTIMEZONE
BEGIN:VEVENT
UID:69eaa6037d79c
DTSTAMP:20260423T230643Z
SUMMARY:Auditing Financial Statements of ERISA Plans
LOCATION: 
URL:https://macpa.org/catalog/events/21569652-auditing-financial-statements
 -of-erisa-plans-2027-03-02
DTSTART;TZID=America/New_York:20270203T110000
DTEND;TZID=America/New_York:20270203T150000
END:VEVENT
END:VCALENDAR