BEGIN:VCALENDAR
VERSION:2.0
PRODID:spatie/icalendar-generator
NAME:Streamlined Excel Reporting Series Session 1: PivotTable Fundamentals
X-WR-CALNAME:Streamlined Excel Reporting Series Session 1: PivotTable Funda
 mentals
BEGIN:VTIMEZONE
TZID:America/New_York
BEGIN:STANDARD
DTSTART:20261101T010000
TZOFFSETFROM:-0400
TZOFFSETTO:-0500
END:STANDARD
BEGIN:DAYLIGHT
DTSTART:20270314T010000
TZOFFSETFROM:-0500
TZOFFSETTO:-0400
END:DAYLIGHT
END:VTIMEZONE
BEGIN:VTIMEZONE
TZID:UTC
BEGIN:STANDARD
DTSTART:20250727T230112
TZOFFSETFROM:+0000
TZOFFSETTO:+0000
END:STANDARD
END:VTIMEZONE
BEGIN:VEVENT
UID:69eaa4b80e7bf
DTSTAMP:20260423T230112Z
SUMMARY:Streamlined Excel Reporting Series Session 1: PivotTable Fundamenta
 ls
LOCATION: 
URL:https://macpa.org/catalog/events/21569637-streamlined-excel-reporting-s
 eries-session-1-pivottable-fundamentals-2027-01-02
DTSTART;TZID=America/New_York:20270201T090000
DTEND;TZID=America/New_York:20270201T110000
END:VEVENT
END:VCALENDAR