BEGIN:VCALENDAR
VERSION:2.0
PRODID:spatie/icalendar-generator
NAME:Reviewing S Corporation Tax Returns: What Are You Missing?
X-WR-CALNAME:Reviewing S Corporation Tax Returns: What Are You Missing?
BEGIN:VTIMEZONE
TZID:America/New_York
BEGIN:STANDARD
DTSTART:20261101T010000
TZOFFSETFROM:-0400
TZOFFSETTO:-0500
END:STANDARD
BEGIN:DAYLIGHT
DTSTART:20270314T010000
TZOFFSETFROM:-0500
TZOFFSETTO:-0400
END:DAYLIGHT
END:VTIMEZONE
BEGIN:VTIMEZONE
TZID:UTC
BEGIN:STANDARD
DTSTART:20250727T230504
TZOFFSETFROM:+0000
TZOFFSETTO:+0000
END:STANDARD
END:VTIMEZONE
BEGIN:VEVENT
UID:69eaa5a0175dc
DTSTAMP:20260423T230504Z
SUMMARY:Reviewing S Corporation Tax Returns: What Are You Missing?
LOCATION: 
URL:https://macpa.org/catalog/events/21569628-reviewing-s-corporation-tax-r
 eturns-what-are-you-missing-2027-29-01
DTSTART;TZID=America/New_York:20270129T090000
DTEND;TZID=America/New_York:20270129T130000
END:VEVENT
END:VCALENDAR