BEGIN:VCALENDAR
VERSION:2.0
PRODID:spatie/icalendar-generator
NAME:Pass-Through and Corporate Annual Tax Update
X-WR-CALNAME:Pass-Through and Corporate Annual Tax Update
BEGIN:VTIMEZONE
TZID:America/New_York
BEGIN:STANDARD
DTSTART:20261101T010000
TZOFFSETFROM:-0400
TZOFFSETTO:-0500
END:STANDARD
BEGIN:DAYLIGHT
DTSTART:20270314T010000
TZOFFSETFROM:-0500
TZOFFSETTO:-0400
END:DAYLIGHT
END:VTIMEZONE
BEGIN:VTIMEZONE
TZID:UTC
BEGIN:STANDARD
DTSTART:20250727T230350
TZOFFSETFROM:+0000
TZOFFSETTO:+0000
END:STANDARD
END:VTIMEZONE
BEGIN:VEVENT
UID:69eaa5564434a
DTSTAMP:20260423T230350Z
SUMMARY:Pass-Through and Corporate Annual Tax Update
LOCATION: 
URL:https://macpa.org/catalog/events/21569620-pass-through-and-corporate-an
 nual-tax-update-2027-27-01
DTSTART;TZID=America/New_York:20270127T090000
DTEND;TZID=America/New_York:20270127T123000
END:VEVENT
END:VCALENDAR