BEGIN:VCALENDAR
VERSION:2.0
PRODID:spatie/icalendar-generator
NAME:Reviewing Individual Tax Returns
X-WR-CALNAME:Reviewing Individual Tax Returns
BEGIN:VTIMEZONE
TZID:America/New_York
BEGIN:STANDARD
DTSTART:20261101T010000
TZOFFSETFROM:-0400
TZOFFSETTO:-0500
END:STANDARD
BEGIN:DAYLIGHT
DTSTART:20270314T010000
TZOFFSETFROM:-0500
TZOFFSETTO:-0400
END:DAYLIGHT
END:VTIMEZONE
BEGIN:VTIMEZONE
TZID:UTC
BEGIN:STANDARD
DTSTART:20250727T230456
TZOFFSETFROM:+0000
TZOFFSETTO:+0000
END:STANDARD
END:VTIMEZONE
BEGIN:VEVENT
UID:69eaa5988a33e
DTSTAMP:20260423T230456Z
SUMMARY:Reviewing Individual Tax Returns
LOCATION: 
URL:https://macpa.org/catalog/events/21569603-reviewing-individual-tax-retu
 rns-2027-25-01
DTSTART;TZID=America/New_York:20270125T130000
DTEND;TZID=America/New_York:20270125T150000
END:VEVENT
END:VCALENDAR