BEGIN:VCALENDAR
VERSION:2.0
PRODID:spatie/icalendar-generator
NAME:Lessee and Lessor Accounting
X-WR-CALNAME:Lessee and Lessor Accounting
BEGIN:VTIMEZONE
TZID:America/New_York
BEGIN:STANDARD
DTSTART:20261101T010000
TZOFFSETFROM:-0400
TZOFFSETTO:-0500
END:STANDARD
BEGIN:DAYLIGHT
DTSTART:20270314T010000
TZOFFSETFROM:-0500
TZOFFSETTO:-0400
END:DAYLIGHT
END:VTIMEZONE
BEGIN:VTIMEZONE
TZID:UTC
BEGIN:STANDARD
DTSTART:20250727T230749
TZOFFSETFROM:+0000
TZOFFSETTO:+0000
END:STANDARD
END:VTIMEZONE
BEGIN:VEVENT
UID:69eaa64595379
DTSTAMP:20260423T230749Z
SUMMARY:Lessee and Lessor Accounting
LOCATION: 
URL:https://macpa.org/catalog/events/21569579-lessee-and-lessor-accounting-
 2027-20-01
DTSTART;TZID=America/New_York:20270120T110000
DTEND;TZID=America/New_York:20270120T130000
END:VEVENT
END:VCALENDAR