BEGIN:VCALENDAR
VERSION:2.0
PRODID:spatie/icalendar-generator
NAME:Preparation\, Compilation\, and Review Engagements: Update and Review
X-WR-CALNAME:Preparation\, Compilation\, and Review Engagements: Update and
  Review
BEGIN:VTIMEZONE
TZID:America/New_York
BEGIN:STANDARD
DTSTART:20261101T010000
TZOFFSETFROM:-0400
TZOFFSETTO:-0500
END:STANDARD
BEGIN:DAYLIGHT
DTSTART:20270314T010000
TZOFFSETFROM:-0500
TZOFFSETTO:-0400
END:DAYLIGHT
END:VTIMEZONE
BEGIN:VTIMEZONE
TZID:UTC
BEGIN:STANDARD
DTSTART:20250727T230759
TZOFFSETFROM:+0000
TZOFFSETTO:+0000
END:STANDARD
END:VTIMEZONE
BEGIN:VEVENT
UID:69eaa64fb4b9f
DTSTAMP:20260423T230759Z
SUMMARY:Preparation\, Compilation\, and Review Engagements: Update and Revi
 ew
LOCATION: 
URL:https://macpa.org/catalog/events/21569569-preparation-compilation-and-r
 eview-engagements-update-and-review-2027-19-01
DTSTART;TZID=America/New_York:20270119T090000
DTEND;TZID=America/New_York:20270119T130000
END:VEVENT
END:VCALENDAR