BEGIN:VCALENDAR
VERSION:2.0
PRODID:spatie/icalendar-generator
NAME:Contract Accounting\, Lease Accounting\, and Their Impact on Construct
 ion Contractors
X-WR-CALNAME:Contract Accounting\, Lease Accounting\, and Their Impact on C
 onstruction Contractors
BEGIN:VTIMEZONE
TZID:America/New_York
BEGIN:STANDARD
DTSTART:20261101T010000
TZOFFSETFROM:-0400
TZOFFSETTO:-0500
END:STANDARD
BEGIN:DAYLIGHT
DTSTART:20270314T010000
TZOFFSETFROM:-0500
TZOFFSETTO:-0400
END:DAYLIGHT
END:VTIMEZONE
BEGIN:VTIMEZONE
TZID:UTC
BEGIN:STANDARD
DTSTART:20250727T230759
TZOFFSETFROM:+0000
TZOFFSETTO:+0000
END:STANDARD
END:VTIMEZONE
BEGIN:VEVENT
UID:69eaa64f5cc85
DTSTAMP:20260423T230759Z
SUMMARY:Contract Accounting\, Lease Accounting\, and Their Impact on Constr
 uction Contractors
LOCATION: 
URL:https://macpa.org/catalog/events/21569556-contract-accounting-lease-acc
 ounting-and-their-impact-on-construction-contractors-2027-15-01
DTSTART;TZID=America/New_York:20270115T120000
DTEND;TZID=America/New_York:20270115T133000
END:VEVENT
END:VCALENDAR