BEGIN:VCALENDAR
VERSION:2.0
PRODID:spatie/icalendar-generator
NAME:Ethics and Professional Conduct
X-WR-CALNAME:Ethics and Professional Conduct
BEGIN:VTIMEZONE
TZID:America/New_York
BEGIN:STANDARD
DTSTART:20261101T010000
TZOFFSETFROM:-0400
TZOFFSETTO:-0500
END:STANDARD
BEGIN:DAYLIGHT
DTSTART:20270314T010000
TZOFFSETFROM:-0500
TZOFFSETTO:-0400
END:DAYLIGHT
END:VTIMEZONE
BEGIN:VTIMEZONE
TZID:UTC
BEGIN:STANDARD
DTSTART:20250727T230111
TZOFFSETFROM:+0000
TZOFFSETTO:+0000
END:STANDARD
END:VTIMEZONE
BEGIN:VEVENT
UID:69eaa4b789854
DTSTAMP:20260423T230111Z
SUMMARY:Ethics and Professional Conduct
LOCATION: 
URL:https://macpa.org/catalog/events/21569554-ethics-and-professional-condu
 ct-2027-14-01
DTSTART;TZID=America/New_York:20270114T130000
DTEND;TZID=America/New_York:20270114T150000
END:VEVENT
END:VCALENDAR