BEGIN:VCALENDAR
VERSION:2.0
PRODID:spatie/icalendar-generator
NAME:Business Transformation: Critical Skills for CFOs and Controllers
X-WR-CALNAME:Business Transformation: Critical Skills for CFOs and Controll
 ers
BEGIN:VTIMEZONE
TZID:America/New_York
BEGIN:STANDARD
DTSTART:20261101T010000
TZOFFSETFROM:-0400
TZOFFSETTO:-0500
END:STANDARD
BEGIN:DAYLIGHT
DTSTART:20270314T010000
TZOFFSETFROM:-0500
TZOFFSETTO:-0400
END:DAYLIGHT
END:VTIMEZONE
BEGIN:VTIMEZONE
TZID:UTC
BEGIN:STANDARD
DTSTART:20250727T230623
TZOFFSETFROM:+0000
TZOFFSETTO:+0000
END:STANDARD
END:VTIMEZONE
BEGIN:VEVENT
UID:69eaa5ef9d7f1
DTSTAMP:20260423T230623Z
SUMMARY:Business Transformation: Critical Skills for CFOs and Controllers
LOCATION: 
URL:https://macpa.org/catalog/events/21569538-business-transformation-criti
 cal-skills-for-cfos-and-controllers-2027-13-01
DTSTART;TZID=America/New_York:20270113T090000
DTEND;TZID=America/New_York:20270113T130000
END:VEVENT
END:VCALENDAR