BEGIN:VCALENDAR
VERSION:2.0
PRODID:spatie/icalendar-generator
NAME:Taxation of Property Transactions - Tax Staff Essentials
X-WR-CALNAME:Taxation of Property Transactions - Tax Staff Essentials
BEGIN:VTIMEZONE
TZID:America/New_York
BEGIN:STANDARD
DTSTART:20261101T010000
TZOFFSETFROM:-0400
TZOFFSETTO:-0500
END:STANDARD
BEGIN:DAYLIGHT
DTSTART:20270314T010000
TZOFFSETFROM:-0500
TZOFFSETTO:-0400
END:DAYLIGHT
END:VTIMEZONE
BEGIN:VTIMEZONE
TZID:UTC
BEGIN:STANDARD
DTSTART:20250727T230622
TZOFFSETFROM:+0000
TZOFFSETTO:+0000
END:STANDARD
END:VTIMEZONE
BEGIN:VEVENT
UID:69eaa5ee59e70
DTSTAMP:20260423T230622Z
SUMMARY:Taxation of Property Transactions - Tax Staff Essentials
LOCATION: 
URL:https://macpa.org/catalog/events/21569532-taxation-of-property-transact
 ions-tax-staff-essentials-2027-12-01
DTSTART;TZID=America/New_York:20270112T130000
DTEND;TZID=America/New_York:20270112T170000
END:VEVENT
END:VCALENDAR