BEGIN:VCALENDAR
VERSION:2.0
PRODID:spatie/icalendar-generator
NAME:Current and Upcoming FASB Issues
X-WR-CALNAME:Current and Upcoming FASB Issues
BEGIN:VTIMEZONE
TZID:America/New_York
BEGIN:STANDARD
DTSTART:20261101T010000
TZOFFSETFROM:-0400
TZOFFSETTO:-0500
END:STANDARD
BEGIN:DAYLIGHT
DTSTART:20270314T010000
TZOFFSETFROM:-0500
TZOFFSETTO:-0400
END:DAYLIGHT
END:VTIMEZONE
BEGIN:VTIMEZONE
TZID:UTC
BEGIN:STANDARD
DTSTART:20250727T230101
TZOFFSETFROM:+0000
TZOFFSETTO:+0000
END:STANDARD
END:VTIMEZONE
BEGIN:VEVENT
UID:69eaa4ad3c6de
DTSTAMP:20260423T230101Z
SUMMARY:Current and Upcoming FASB Issues
LOCATION: 
URL:https://macpa.org/catalog/events/21569530-current-and-upcoming-fasb-iss
 ues-2027-12-01
DTSTART;TZID=America/New_York:20270112T090000
DTEND;TZID=America/New_York:20270112T110000
END:VEVENT
END:VCALENDAR