BEGIN:VCALENDAR
VERSION:2.0
PRODID:spatie/icalendar-generator
NAME:Ethics in the World of AI: An Accountant's Guide to Managing the Risks
X-WR-CALNAME:Ethics in the World of AI: An Accountant's Guide to Managing t
 he Risks
BEGIN:VTIMEZONE
TZID:America/New_York
BEGIN:STANDARD
DTSTART:20261101T010000
TZOFFSETFROM:-0400
TZOFFSETTO:-0500
END:STANDARD
BEGIN:DAYLIGHT
DTSTART:20270314T010000
TZOFFSETFROM:-0500
TZOFFSETTO:-0400
END:DAYLIGHT
END:VTIMEZONE
BEGIN:VTIMEZONE
TZID:UTC
BEGIN:STANDARD
DTSTART:20250727T230350
TZOFFSETFROM:+0000
TZOFFSETTO:+0000
END:STANDARD
END:VTIMEZONE
BEGIN:VEVENT
UID:69eaa556d4cbb
DTSTAMP:20260423T230350Z
SUMMARY:Ethics in the World of AI: An Accountant's Guide to Managing the Ri
 sks
LOCATION: 
URL:https://macpa.org/catalog/events/21569508-ethics-in-the-world-of-ai-an-
 accountants-guide-to-managing-the-risks-2027-08-01
DTSTART;TZID=America/New_York:20270108T100000
DTEND;TZID=America/New_York:20270108T120000
END:VEVENT
END:VCALENDAR