BEGIN:VCALENDAR
VERSION:2.0
PRODID:spatie/icalendar-generator
NAME:Capitalized Costs & Depreciation - Tax Staff Essentials
X-WR-CALNAME:Capitalized Costs & Depreciation - Tax Staff Essentials
BEGIN:VTIMEZONE
TZID:America/New_York
BEGIN:STANDARD
DTSTART:20261101T010000
TZOFFSETFROM:-0400
TZOFFSETTO:-0500
END:STANDARD
BEGIN:DAYLIGHT
DTSTART:20270314T010000
TZOFFSETFROM:-0500
TZOFFSETTO:-0400
END:DAYLIGHT
END:VTIMEZONE
BEGIN:VTIMEZONE
TZID:UTC
BEGIN:STANDARD
DTSTART:20250727T230648
TZOFFSETFROM:+0000
TZOFFSETTO:+0000
END:STANDARD
END:VTIMEZONE
BEGIN:VEVENT
UID:69eaa608d4d32
DTSTAMP:20260423T230648Z
SUMMARY:Capitalized Costs & Depreciation - Tax Staff Essentials
LOCATION: 
URL:https://macpa.org/catalog/events/21569507-capitalized-costs-depreciatio
 n-tax-staff-essentials-2027-07-01
DTSTART;TZID=America/New_York:20270107T110000
DTEND;TZID=America/New_York:20270107T163000
END:VEVENT
END:VCALENDAR