BEGIN:VCALENDAR
VERSION:2.0
PRODID:spatie/icalendar-generator
NAME:Yellow Book: Staying Compliant With Government Auditing Standards
X-WR-CALNAME:Yellow Book: Staying Compliant With Government Auditing Standa
 rds
BEGIN:VTIMEZONE
TZID:America/New_York
BEGIN:STANDARD
DTSTART:20261101T010000
TZOFFSETFROM:-0400
TZOFFSETTO:-0500
END:STANDARD
BEGIN:DAYLIGHT
DTSTART:20270314T010000
TZOFFSETFROM:-0500
TZOFFSETTO:-0400
END:DAYLIGHT
END:VTIMEZONE
BEGIN:VTIMEZONE
TZID:UTC
BEGIN:STANDARD
DTSTART:20250727T230649
TZOFFSETFROM:+0000
TZOFFSETTO:+0000
END:STANDARD
END:VTIMEZONE
BEGIN:VEVENT
UID:69eaa60919e1f
DTSTAMP:20260423T230649Z
SUMMARY:Yellow Book: Staying Compliant With Government Auditing Standards
LOCATION: 
URL:https://macpa.org/catalog/events/21569459-yellow-book-staying-compliant
 -with-government-auditing-standards-2026-21-12
DTSTART;TZID=America/New_York:20261221T090000
DTEND;TZID=America/New_York:20261221T170000
END:VEVENT
END:VCALENDAR