BEGIN:VCALENDAR
VERSION:2.0
PRODID:spatie/icalendar-generator
NAME:AICPA's Annual Federal Tax Update
X-WR-CALNAME:AICPA's Annual Federal Tax Update
BEGIN:VTIMEZONE
TZID:America/New_York
BEGIN:STANDARD
DTSTART:20261101T010000
TZOFFSETFROM:-0400
TZOFFSETTO:-0500
END:STANDARD
BEGIN:DAYLIGHT
DTSTART:20270314T010000
TZOFFSETFROM:-0500
TZOFFSETTO:-0400
END:DAYLIGHT
END:VTIMEZONE
BEGIN:VTIMEZONE
TZID:UTC
BEGIN:STANDARD
DTSTART:20250727T230649
TZOFFSETFROM:+0000
TZOFFSETTO:+0000
END:STANDARD
END:VTIMEZONE
BEGIN:VEVENT
UID:69eaa60904a85
DTSTAMP:20260423T230649Z
SUMMARY:AICPA's Annual Federal Tax Update
LOCATION: 
URL:https://macpa.org/catalog/events/21569439-aicpas-annual-federal-tax-upd
 ate-2026-18-12
DTSTART;TZID=America/New_York:20261218T090000
DTEND;TZID=America/New_York:20261218T160000
END:VEVENT
END:VCALENDAR