BEGIN:VCALENDAR
VERSION:2.0
PRODID:spatie/icalendar-generator
NAME:Quality Management: Engagement Quality Reviews
X-WR-CALNAME:Quality Management: Engagement Quality Reviews
BEGIN:VTIMEZONE
TZID:America/New_York
BEGIN:STANDARD
DTSTART:20261101T010000
TZOFFSETFROM:-0400
TZOFFSETTO:-0500
END:STANDARD
BEGIN:DAYLIGHT
DTSTART:20270314T010000
TZOFFSETFROM:-0500
TZOFFSETTO:-0400
END:DAYLIGHT
END:VTIMEZONE
BEGIN:VTIMEZONE
TZID:UTC
BEGIN:STANDARD
DTSTART:20250727T230349
TZOFFSETFROM:+0000
TZOFFSETTO:+0000
END:STANDARD
END:VTIMEZONE
BEGIN:VEVENT
UID:69eaa5553ae42
DTSTAMP:20260423T230349Z
SUMMARY:Quality Management: Engagement Quality Reviews
LOCATION: 
URL:https://macpa.org/catalog/events/21569427-quality-management-engagement
 -quality-reviews-2026-17-12
DTSTART;TZID=America/New_York:20261217T150000
DTEND;TZID=America/New_York:20261217T170000
END:VEVENT
END:VCALENDAR