BEGIN:VCALENDAR
VERSION:2.0
PRODID:spatie/icalendar-generator
NAME:Performing Preparation\, Compilation and Review Engagements
X-WR-CALNAME:Performing Preparation\, Compilation and Review Engagements
BEGIN:VTIMEZONE
TZID:America/New_York
BEGIN:STANDARD
DTSTART:20261101T010000
TZOFFSETFROM:-0400
TZOFFSETTO:-0500
END:STANDARD
BEGIN:DAYLIGHT
DTSTART:20270314T010000
TZOFFSETFROM:-0500
TZOFFSETTO:-0400
END:DAYLIGHT
END:VTIMEZONE
BEGIN:VTIMEZONE
TZID:UTC
BEGIN:STANDARD
DTSTART:20250727T230509
TZOFFSETFROM:+0000
TZOFFSETTO:+0000
END:STANDARD
END:VTIMEZONE
BEGIN:VEVENT
UID:69eaa5a57303c
DTSTAMP:20260423T230509Z
SUMMARY:Performing Preparation\, Compilation and Review Engagements
LOCATION: 
URL:https://macpa.org/catalog/events/21569370-performing-preparation-compil
 ation-and-review-engagements-2026-14-12
DTSTART;TZID=America/New_York:20261214T110000
DTEND;TZID=America/New_York:20261214T130000
END:VEVENT
END:VCALENDAR