BEGIN:VCALENDAR
VERSION:2.0
PRODID:spatie/icalendar-generator
NAME:Individual Income and Tax Compliance Annual Update
X-WR-CALNAME:Individual Income and Tax Compliance Annual Update
BEGIN:VTIMEZONE
TZID:America/New_York
BEGIN:STANDARD
DTSTART:20261101T010000
TZOFFSETFROM:-0400
TZOFFSETTO:-0500
END:STANDARD
BEGIN:DAYLIGHT
DTSTART:20270314T010000
TZOFFSETFROM:-0500
TZOFFSETTO:-0400
END:DAYLIGHT
END:VTIMEZONE
BEGIN:VTIMEZONE
TZID:UTC
BEGIN:STANDARD
DTSTART:20250727T230642
TZOFFSETFROM:+0000
TZOFFSETTO:+0000
END:STANDARD
END:VTIMEZONE
BEGIN:VEVENT
UID:69eaa6025dba5
DTSTAMP:20260423T230642Z
SUMMARY:Individual Income and Tax Compliance Annual Update
LOCATION: 
URL:https://macpa.org/catalog/events/21569360-individual-income-and-tax-com
 pliance-annual-update-2026-11-12
DTSTART;TZID=America/New_York:20261211T110000
DTEND;TZID=America/New_York:20261211T143000
END:VEVENT
END:VCALENDAR