BEGIN:VCALENDAR
VERSION:2.0
PRODID:spatie/icalendar-generator
NAME:Excel for Accounting Professionals Session 6: List Comparisons and Ind
 enting
X-WR-CALNAME:Excel for Accounting Professionals Session 6: List Comparisons
  and Indenting
BEGIN:VTIMEZONE
TZID:America/New_York
BEGIN:STANDARD
DTSTART:20261101T010000
TZOFFSETFROM:-0400
TZOFFSETTO:-0500
END:STANDARD
BEGIN:DAYLIGHT
DTSTART:20270314T010000
TZOFFSETFROM:-0500
TZOFFSETTO:-0400
END:DAYLIGHT
END:VTIMEZONE
BEGIN:VTIMEZONE
TZID:UTC
BEGIN:STANDARD
DTSTART:20250727T230622
TZOFFSETFROM:+0000
TZOFFSETTO:+0000
END:STANDARD
END:VTIMEZONE
BEGIN:VEVENT
UID:69eaa5ee2f0e3
DTSTAMP:20260423T230622Z
SUMMARY:Excel for Accounting Professionals Session 6: List Comparisons and 
 Indenting
LOCATION: 
URL:https://macpa.org/catalog/events/21569321-excel-for-accounting-professi
 onals-session-6-list-comparisons-and-indenting-2026-08-12
DTSTART;TZID=America/New_York:20261208T100000
DTEND;TZID=America/New_York:20261208T120000
END:VEVENT
END:VCALENDAR