BEGIN:VCALENDAR
VERSION:2.0
PRODID:spatie/icalendar-generator
NAME:Construction Contractors: Non-Revenue and Non-Lease Accounting Conside
 rations
X-WR-CALNAME:Construction Contractors: Non-Revenue and Non-Lease Accounting
  Considerations
BEGIN:VTIMEZONE
TZID:America/New_York
BEGIN:STANDARD
DTSTART:20261101T010000
TZOFFSETFROM:-0400
TZOFFSETTO:-0500
END:STANDARD
BEGIN:DAYLIGHT
DTSTART:20270314T010000
TZOFFSETFROM:-0500
TZOFFSETTO:-0400
END:DAYLIGHT
END:VTIMEZONE
BEGIN:VTIMEZONE
TZID:UTC
BEGIN:STANDARD
DTSTART:20250727T230856
TZOFFSETFROM:+0000
TZOFFSETTO:+0000
END:STANDARD
END:VTIMEZONE
BEGIN:VEVENT
UID:69eaa68868f0d
DTSTAMP:20260423T230856Z
SUMMARY:Construction Contractors: Non-Revenue and Non-Lease Accounting Cons
 iderations
LOCATION: 
URL:https://macpa.org/catalog/events/21569307-construction-contractors-non-
 revenue-and-non-lease-accounting-considerations-2026-07-12
DTSTART;TZID=America/New_York:20261207T110000
DTEND;TZID=America/New_York:20261207T153000
END:VEVENT
END:VCALENDAR