BEGIN:VCALENDAR
VERSION:2.0
PRODID:spatie/icalendar-generator
NAME:Business Transformation: Critical Skills for CFOs and Controllers
X-WR-CALNAME:Business Transformation: Critical Skills for CFOs and Controll
 ers
BEGIN:VTIMEZONE
TZID:America/New_York
BEGIN:STANDARD
DTSTART:20261101T010000
TZOFFSETFROM:-0400
TZOFFSETTO:-0500
END:STANDARD
BEGIN:DAYLIGHT
DTSTART:20270314T010000
TZOFFSETFROM:-0500
TZOFFSETTO:-0400
END:DAYLIGHT
END:VTIMEZONE
BEGIN:VTIMEZONE
TZID:UTC
BEGIN:STANDARD
DTSTART:20250727T230503
TZOFFSETFROM:+0000
TZOFFSETTO:+0000
END:STANDARD
END:VTIMEZONE
BEGIN:VEVENT
UID:69eaa59f428a8
DTSTAMP:20260423T230503Z
SUMMARY:Business Transformation: Critical Skills for CFOs and Controllers
LOCATION: 
URL:https://macpa.org/catalog/events/21569306-business-transformation-criti
 cal-skills-for-cfos-and-controllers-2026-07-12
DTSTART;TZID=America/New_York:20261207T130000
DTEND;TZID=America/New_York:20261207T170000
END:VEVENT
END:VCALENDAR