BEGIN:VCALENDAR
VERSION:2.0
PRODID:spatie/icalendar-generator
NAME:Audits of Employee Benefit Plans Subject to ERISA
X-WR-CALNAME:Audits of Employee Benefit Plans Subject to ERISA
BEGIN:VTIMEZONE
TZID:America/New_York
BEGIN:STANDARD
DTSTART:20261101T010000
TZOFFSETFROM:-0400
TZOFFSETTO:-0500
END:STANDARD
BEGIN:DAYLIGHT
DTSTART:20270314T010000
TZOFFSETFROM:-0500
TZOFFSETTO:-0400
END:DAYLIGHT
END:VTIMEZONE
BEGIN:VTIMEZONE
TZID:UTC
BEGIN:STANDARD
DTSTART:20250727T230749
TZOFFSETFROM:+0000
TZOFFSETTO:+0000
END:STANDARD
END:VTIMEZONE
BEGIN:VEVENT
UID:69eaa645c1aec
DTSTAMP:20260423T230749Z
SUMMARY:Audits of Employee Benefit Plans Subject to ERISA
LOCATION: 
URL:https://macpa.org/catalog/events/21569288-audits-of-employee-benefit-pl
 ans-subject-to-erisa-2026-03-12
DTSTART;TZID=America/New_York:20261203T090000
DTEND;TZID=America/New_York:20261203T170000
END:VEVENT
END:VCALENDAR