BEGIN:VCALENDAR
VERSION:2.0
PRODID:spatie/icalendar-generator
NAME:Annual Update for Controllers and Finance Managers: Driving Business V
 alue
X-WR-CALNAME:Annual Update for Controllers and Finance Managers: Driving Bu
 siness Value
BEGIN:VTIMEZONE
TZID:America/New_York
BEGIN:DAYLIGHT
DTSTART:20260308T010000
TZOFFSETFROM:-0500
TZOFFSETTO:-0400
END:DAYLIGHT
BEGIN:STANDARD
DTSTART:20261101T010000
TZOFFSETFROM:-0400
TZOFFSETTO:-0500
END:STANDARD
BEGIN:DAYLIGHT
DTSTART:20270314T010000
TZOFFSETFROM:-0500
TZOFFSETTO:-0400
END:DAYLIGHT
END:VTIMEZONE
BEGIN:VTIMEZONE
TZID:UTC
BEGIN:STANDARD
DTSTART:20250727T230744
TZOFFSETFROM:+0000
TZOFFSETTO:+0000
END:STANDARD
END:VTIMEZONE
BEGIN:VEVENT
UID:69eaa6401d6fd
DTSTAMP:20260423T230744Z
SUMMARY:Annual Update for Controllers and Finance Managers: Driving Busines
 s Value
LOCATION: 
URL:https://macpa.org/catalog/events/21569271-annual-update-for-controllers
 -and-finance-managers-driving-business-value-2026-01-12
DTSTART;TZID=America/New_York:20261201T100000
DTEND;TZID=America/New_York:20261201T170000
END:VEVENT
END:VCALENDAR