BEGIN:VCALENDAR
VERSION:2.0
PRODID:spatie/icalendar-generator
NAME:Streamlined Excel Reporting Series Session 4: External Data and PivotC
 harts
X-WR-CALNAME:Streamlined Excel Reporting Series Session 4: External Data an
 d PivotCharts
BEGIN:VTIMEZONE
TZID:America/New_York
BEGIN:DAYLIGHT
DTSTART:20260308T010000
TZOFFSETFROM:-0500
TZOFFSETTO:-0400
END:DAYLIGHT
BEGIN:STANDARD
DTSTART:20261101T010000
TZOFFSETFROM:-0400
TZOFFSETTO:-0500
END:STANDARD
BEGIN:DAYLIGHT
DTSTART:20270314T010000
TZOFFSETFROM:-0500
TZOFFSETTO:-0400
END:DAYLIGHT
END:VTIMEZONE
BEGIN:VTIMEZONE
TZID:UTC
BEGIN:STANDARD
DTSTART:20250727T225825
TZOFFSETFROM:+0000
TZOFFSETTO:+0000
END:STANDARD
END:VTIMEZONE
BEGIN:VEVENT
UID:69eaa411e7a74
DTSTAMP:20260423T225825Z
SUMMARY:Streamlined Excel Reporting Series Session 4: External Data and Piv
 otCharts
LOCATION: 
URL:https://macpa.org/catalog/events/21569216-streamlined-excel-reporting-s
 eries-session-4-external-data-and-pivotcharts-2026-19-11
DTSTART;TZID=America/New_York:20261119T120000
DTEND;TZID=America/New_York:20261119T140000
END:VEVENT
END:VCALENDAR