BEGIN:VCALENDAR
VERSION:2.0
PRODID:spatie/icalendar-generator
NAME:Streamlined Excel Reporting Series Session 3: PivotTable Wrap-Up and W
 eb Data
X-WR-CALNAME:Streamlined Excel Reporting Series Session 3: PivotTable Wrap-
 Up and Web Data
BEGIN:VTIMEZONE
TZID:America/New_York
BEGIN:DAYLIGHT
DTSTART:20260308T010000
TZOFFSETFROM:-0500
TZOFFSETTO:-0400
END:DAYLIGHT
BEGIN:STANDARD
DTSTART:20261101T010000
TZOFFSETFROM:-0400
TZOFFSETTO:-0500
END:STANDARD
BEGIN:DAYLIGHT
DTSTART:20270314T010000
TZOFFSETFROM:-0500
TZOFFSETTO:-0400
END:DAYLIGHT
END:VTIMEZONE
BEGIN:VTIMEZONE
TZID:UTC
BEGIN:STANDARD
DTSTART:20250727T225847
TZOFFSETFROM:+0000
TZOFFSETTO:+0000
END:STANDARD
END:VTIMEZONE
BEGIN:VEVENT
UID:69eaa4278d951
DTSTAMP:20260423T225847Z
SUMMARY:Streamlined Excel Reporting Series Session 3: PivotTable Wrap-Up an
 d Web Data
LOCATION: 
URL:https://macpa.org/catalog/events/21569199-streamlined-excel-reporting-s
 eries-session-3-pivottable-wrap-up-and-web-data-2026-18-11
DTSTART;TZID=America/New_York:20261118T110000
DTEND;TZID=America/New_York:20261118T130000
END:VEVENT
END:VCALENDAR