BEGIN:VCALENDAR
VERSION:2.0
PRODID:spatie/icalendar-generator
NAME:Accounting for digital assets under US GAAP: Specialized accounting\, 
 fair value\, and stablecoins
X-WR-CALNAME:Accounting for digital assets under US GAAP: Specialized accou
 nting\, fair value\, and stablecoins
BEGIN:VTIMEZONE
TZID:America/New_York
BEGIN:DAYLIGHT
DTSTART:20260308T010000
TZOFFSETFROM:-0500
TZOFFSETTO:-0400
END:DAYLIGHT
BEGIN:STANDARD
DTSTART:20261101T010000
TZOFFSETFROM:-0400
TZOFFSETTO:-0500
END:STANDARD
BEGIN:DAYLIGHT
DTSTART:20270314T010000
TZOFFSETFROM:-0500
TZOFFSETTO:-0400
END:DAYLIGHT
END:VTIMEZONE
BEGIN:VTIMEZONE
TZID:UTC
BEGIN:STANDARD
DTSTART:20250727T230648
TZOFFSETFROM:+0000
TZOFFSETTO:+0000
END:STANDARD
END:VTIMEZONE
BEGIN:VEVENT
UID:69eaa6085dbd0
DTSTAMP:20260423T230648Z
SUMMARY:Accounting for digital assets under US GAAP: Specialized accounting
 \, fair value\, and stablecoins
LOCATION: 
URL:https://macpa.org/catalog/events/21569189-accounting-for-digital-assets
 -under-us-gaap-specialized-accounting-fair-value-and-stablecoins-2026-17-1
 1
DTSTART;TZID=America/New_York:20261117T090000
DTEND;TZID=America/New_York:20261117T103000
END:VEVENT
END:VCALENDAR