BEGIN:VCALENDAR
VERSION:2.0
PRODID:spatie/icalendar-generator
NAME:Pass-Through and Corporate Annual Tax Update
X-WR-CALNAME:Pass-Through and Corporate Annual Tax Update
BEGIN:VTIMEZONE
TZID:America/New_York
BEGIN:DAYLIGHT
DTSTART:20260308T010000
TZOFFSETFROM:-0500
TZOFFSETTO:-0400
END:DAYLIGHT
BEGIN:STANDARD
DTSTART:20261101T010000
TZOFFSETFROM:-0400
TZOFFSETTO:-0500
END:STANDARD
BEGIN:DAYLIGHT
DTSTART:20270314T010000
TZOFFSETFROM:-0500
TZOFFSETTO:-0400
END:DAYLIGHT
END:VTIMEZONE
BEGIN:VTIMEZONE
TZID:UTC
BEGIN:STANDARD
DTSTART:20250727T230856
TZOFFSETFROM:+0000
TZOFFSETTO:+0000
END:STANDARD
END:VTIMEZONE
BEGIN:VEVENT
UID:69eaa688ede18
DTSTAMP:20260423T230856Z
SUMMARY:Pass-Through and Corporate Annual Tax Update
LOCATION: 
URL:https://macpa.org/catalog/events/21569161-pass-through-and-corporate-an
 nual-tax-update-2026-13-11
DTSTART;TZID=America/New_York:20261113T090000
DTEND;TZID=America/New_York:20261113T123000
END:VEVENT
END:VCALENDAR