BEGIN:VCALENDAR
VERSION:2.0
PRODID:spatie/icalendar-generator
NAME:Tax Planning for Small Businesses - Tax Staff Essentials
X-WR-CALNAME:Tax Planning for Small Businesses - Tax Staff Essentials
BEGIN:VTIMEZONE
TZID:America/New_York
BEGIN:DAYLIGHT
DTSTART:20260308T010000
TZOFFSETFROM:-0500
TZOFFSETTO:-0400
END:DAYLIGHT
BEGIN:STANDARD
DTSTART:20261101T010000
TZOFFSETFROM:-0400
TZOFFSETTO:-0500
END:STANDARD
BEGIN:DAYLIGHT
DTSTART:20270314T010000
TZOFFSETFROM:-0500
TZOFFSETTO:-0400
END:DAYLIGHT
END:VTIMEZONE
BEGIN:VTIMEZONE
TZID:UTC
BEGIN:STANDARD
DTSTART:20250727T230743
TZOFFSETFROM:+0000
TZOFFSETTO:+0000
END:STANDARD
END:VTIMEZONE
BEGIN:VEVENT
UID:69eaa63f76c90
DTSTAMP:20260423T230743Z
SUMMARY:Tax Planning for Small Businesses - Tax Staff Essentials
LOCATION: 
URL:https://macpa.org/catalog/events/21569105-tax-planning-for-small-busine
 sses-tax-staff-essentials-2026-10-11
DTSTART;TZID=America/New_York:20261110T120000
DTEND;TZID=America/New_York:20261110T160000
END:VEVENT
END:VCALENDAR