BEGIN:VCALENDAR
VERSION:2.0
PRODID:spatie/icalendar-generator
NAME:2026 Washington Tax Brief
X-WR-CALNAME:2026 Washington Tax Brief
BEGIN:VTIMEZONE
TZID:America/New_York
BEGIN:DAYLIGHT
DTSTART:20260308T010000
TZOFFSETFROM:-0500
TZOFFSETTO:-0400
END:DAYLIGHT
BEGIN:STANDARD
DTSTART:20261101T010000
TZOFFSETFROM:-0400
TZOFFSETTO:-0500
END:STANDARD
BEGIN:DAYLIGHT
DTSTART:20270314T010000
TZOFFSETFROM:-0500
TZOFFSETTO:-0400
END:DAYLIGHT
END:VTIMEZONE
BEGIN:VTIMEZONE
TZID:UTC
BEGIN:STANDARD
DTSTART:20250727T230902
TZOFFSETFROM:+0000
TZOFFSETTO:+0000
END:STANDARD
END:VTIMEZONE
BEGIN:VEVENT
UID:69eaa68eb37e7
DTSTAMP:20260423T230902Z
SUMMARY:2026 Washington Tax Brief
LOCATION: 
URL:https://macpa.org/catalog/events/21569089-2026-washington-tax-brief-202
 6-09-11
DTSTART;TZID=America/New_York:20261109T162000
DTEND;TZID=America/New_York:20261109T173500
END:VEVENT
END:VCALENDAR