BEGIN:VCALENDAR
VERSION:2.0
PRODID:spatie/icalendar-generator
NAME:Interpreting the FASB Revenue Recognition Standard: What All CPAs Need
  to Know
X-WR-CALNAME:Interpreting the FASB Revenue Recognition Standard: What All C
 PAs Need to Know
BEGIN:VTIMEZONE
TZID:America/New_York
BEGIN:DAYLIGHT
DTSTART:20260308T010000
TZOFFSETFROM:-0500
TZOFFSETTO:-0400
END:DAYLIGHT
BEGIN:STANDARD
DTSTART:20261101T010000
TZOFFSETFROM:-0400
TZOFFSETTO:-0500
END:STANDARD
BEGIN:DAYLIGHT
DTSTART:20270314T010000
TZOFFSETFROM:-0500
TZOFFSETTO:-0400
END:DAYLIGHT
END:VTIMEZONE
BEGIN:VTIMEZONE
TZID:UTC
BEGIN:STANDARD
DTSTART:20250727T230903
TZOFFSETFROM:+0000
TZOFFSETTO:+0000
END:STANDARD
END:VTIMEZONE
BEGIN:VEVENT
UID:69eaa68f456d9
DTSTAMP:20260423T230903Z
SUMMARY:Interpreting the FASB Revenue Recognition Standard: What All CPAs N
 eed to Know
LOCATION: 
URL:https://macpa.org/catalog/events/21569078-interpreting-the-fasb-revenue
 -recognition-standard-what-all-cpas-need-to-know-2026-06-11
DTSTART;TZID=America/New_York:20261106T090000
DTEND;TZID=America/New_York:20261106T130000
END:VEVENT
END:VCALENDAR