BEGIN:VCALENDAR
VERSION:2.0
PRODID:spatie/icalendar-generator
NAME:Form 990: Best Practices for Accurate Preparation
X-WR-CALNAME:Form 990: Best Practices for Accurate Preparation
BEGIN:VTIMEZONE
TZID:America/New_York
BEGIN:DAYLIGHT
DTSTART:20260308T010000
TZOFFSETFROM:-0500
TZOFFSETTO:-0400
END:DAYLIGHT
BEGIN:STANDARD
DTSTART:20261101T010000
TZOFFSETFROM:-0400
TZOFFSETTO:-0500
END:STANDARD
BEGIN:DAYLIGHT
DTSTART:20270314T010000
TZOFFSETFROM:-0500
TZOFFSETTO:-0400
END:DAYLIGHT
END:VTIMEZONE
BEGIN:VTIMEZONE
TZID:UTC
BEGIN:STANDARD
DTSTART:20250727T230858
TZOFFSETFROM:+0000
TZOFFSETTO:+0000
END:STANDARD
END:VTIMEZONE
BEGIN:VEVENT
UID:69eaa68a16798
DTSTAMP:20260423T230858Z
SUMMARY:Form 990: Best Practices for Accurate Preparation
LOCATION: 
URL:https://macpa.org/catalog/events/21569069-form-990-best-practices-for-a
 ccurate-preparation-2026-05-11
DTSTART;TZID=America/New_York:20261105T090000
DTEND;TZID=America/New_York:20261105T170000
END:VEVENT
END:VCALENDAR