BEGIN:VCALENDAR
VERSION:2.0
PRODID:spatie/icalendar-generator
NAME:Current Audit Environment and ASB Activity
X-WR-CALNAME:Current Audit Environment and ASB Activity
BEGIN:VTIMEZONE
TZID:America/New_York
BEGIN:DAYLIGHT
DTSTART:20260308T010000
TZOFFSETFROM:-0500
TZOFFSETTO:-0400
END:DAYLIGHT
BEGIN:STANDARD
DTSTART:20261101T010000
TZOFFSETFROM:-0400
TZOFFSETTO:-0500
END:STANDARD
BEGIN:DAYLIGHT
DTSTART:20270314T010000
TZOFFSETFROM:-0500
TZOFFSETTO:-0400
END:DAYLIGHT
END:VTIMEZONE
BEGIN:VTIMEZONE
TZID:UTC
BEGIN:STANDARD
DTSTART:20250727T225832
TZOFFSETFROM:+0000
TZOFFSETTO:+0000
END:STANDARD
END:VTIMEZONE
BEGIN:VEVENT
UID:69eaa41883c58
DTSTAMP:20260423T225832Z
SUMMARY:Current Audit Environment and ASB Activity
LOCATION: 
URL:https://macpa.org/catalog/events/21569066-current-audit-environment-and
 -asb-activity-2026-05-11
DTSTART;TZID=America/New_York:20261105T090000
DTEND;TZID=America/New_York:20261105T113000
END:VEVENT
END:VCALENDAR