BEGIN:VCALENDAR
VERSION:2.0
PRODID:spatie/icalendar-generator
NAME:Accounting for Digital Assets under US GAAP: Classification\, Measurem
 ent\, and Recognition
X-WR-CALNAME:Accounting for Digital Assets under US GAAP: Classification\, 
 Measurement\, and Recognition
BEGIN:VTIMEZONE
TZID:America/New_York
BEGIN:DAYLIGHT
DTSTART:20260308T010000
TZOFFSETFROM:-0500
TZOFFSETTO:-0400
END:DAYLIGHT
BEGIN:STANDARD
DTSTART:20261101T010000
TZOFFSETFROM:-0400
TZOFFSETTO:-0500
END:STANDARD
BEGIN:DAYLIGHT
DTSTART:20270314T010000
TZOFFSETFROM:-0500
TZOFFSETTO:-0400
END:DAYLIGHT
END:VTIMEZONE
BEGIN:VTIMEZONE
TZID:UTC
BEGIN:STANDARD
DTSTART:20250727T230856
TZOFFSETFROM:+0000
TZOFFSETTO:+0000
END:STANDARD
END:VTIMEZONE
BEGIN:VEVENT
UID:69eaa68844469
DTSTAMP:20260423T230856Z
SUMMARY:Accounting for Digital Assets under US GAAP: Classification\, Measu
 rement\, and Recognition
LOCATION: 
URL:https://macpa.org/catalog/events/21569052-accounting-for-digital-assets
 -under-us-gaap-classification-measurement-and-recognition-2026-05-11
DTSTART;TZID=America/New_York:20261105T140000
DTEND;TZID=America/New_York:20261105T150000
END:VEVENT
END:VCALENDAR