BEGIN:VCALENDAR
VERSION:2.0
PRODID:spatie/icalendar-generator
NAME:Planning for RMDs and Rollovers in a New Era
X-WR-CALNAME:Planning for RMDs and Rollovers in a New Era
BEGIN:VTIMEZONE
TZID:America/New_York
BEGIN:DAYLIGHT
DTSTART:20260308T010000
TZOFFSETFROM:-0500
TZOFFSETTO:-0400
END:DAYLIGHT
BEGIN:STANDARD
DTSTART:20261101T010000
TZOFFSETFROM:-0400
TZOFFSETTO:-0500
END:STANDARD
BEGIN:DAYLIGHT
DTSTART:20270314T010000
TZOFFSETFROM:-0500
TZOFFSETTO:-0400
END:DAYLIGHT
END:VTIMEZONE
BEGIN:VTIMEZONE
TZID:UTC
BEGIN:STANDARD
DTSTART:20250727T230800
TZOFFSETFROM:+0000
TZOFFSETTO:+0000
END:STANDARD
END:VTIMEZONE
BEGIN:VEVENT
UID:69eaa6504689c
DTSTAMP:20260423T230800Z
SUMMARY:Planning for RMDs and Rollovers in a New Era
LOCATION: 
URL:https://macpa.org/catalog/events/21569033-planning-for-rmds-and-rollove
 rs-in-a-new-era-2026-03-11
DTSTART;TZID=America/New_York:20261103T130000
DTEND;TZID=America/New_York:20261103T150000
END:VEVENT
END:VCALENDAR