BEGIN:VCALENDAR
VERSION:2.0
PRODID:spatie/icalendar-generator
NAME:AICPA & CIMA Faculty Hour Series (10/23/2026)
X-WR-CALNAME:AICPA & CIMA Faculty Hour Series (10/23/2026)
BEGIN:VTIMEZONE
TZID:America/New_York
BEGIN:DAYLIGHT
DTSTART:20260308T010000
TZOFFSETFROM:-0500
TZOFFSETTO:-0400
END:DAYLIGHT
BEGIN:STANDARD
DTSTART:20261101T010000
TZOFFSETFROM:-0400
TZOFFSETTO:-0500
END:STANDARD
BEGIN:DAYLIGHT
DTSTART:20270314T010000
TZOFFSETFROM:-0500
TZOFFSETTO:-0400
END:DAYLIGHT
END:VTIMEZONE
BEGIN:VTIMEZONE
TZID:UTC
BEGIN:STANDARD
DTSTART:20250727T230351
TZOFFSETFROM:+0000
TZOFFSETTO:+0000
END:STANDARD
END:VTIMEZONE
BEGIN:VEVENT
UID:69eaa5570d746
DTSTAMP:20260423T230351Z
SUMMARY:AICPA & CIMA Faculty Hour Series (10/23/2026)
LOCATION: 
URL:https://macpa.org/catalog/events/21568979-aicpa-cima-faculty-hour-serie
 s-10232026-2026-23-10
DTSTART;TZID=America/New_York:20261023T140000
DTEND;TZID=America/New_York:20261023T153000
END:VEVENT
END:VCALENDAR