BEGIN:VCALENDAR
VERSION:2.0
PRODID:spatie/icalendar-generator
NAME:Tax Fundamentals of LLCs and Partnerships - Tax Staff Essentials
X-WR-CALNAME:Tax Fundamentals of LLCs and Partnerships - Tax Staff Essentia
 ls
BEGIN:VTIMEZONE
TZID:America/New_York
BEGIN:DAYLIGHT
DTSTART:20260308T010000
TZOFFSETFROM:-0500
TZOFFSETTO:-0400
END:DAYLIGHT
BEGIN:STANDARD
DTSTART:20261101T010000
TZOFFSETFROM:-0400
TZOFFSETTO:-0500
END:STANDARD
BEGIN:DAYLIGHT
DTSTART:20270314T010000
TZOFFSETFROM:-0500
TZOFFSETTO:-0400
END:DAYLIGHT
END:VTIMEZONE
BEGIN:VTIMEZONE
TZID:UTC
BEGIN:STANDARD
DTSTART:20250727T230509
TZOFFSETFROM:+0000
TZOFFSETTO:+0000
END:STANDARD
END:VTIMEZONE
BEGIN:VEVENT
UID:69eaa5a571fb9
DTSTAMP:20260423T230509Z
SUMMARY:Tax Fundamentals of LLCs and Partnerships - Tax Staff Essentials
LOCATION: 
URL:https://macpa.org/catalog/events/21568975-tax-fundamentals-of-llcs-and-
 partnerships-tax-staff-essentials-2026-22-10
DTSTART;TZID=America/New_York:20261022T090000
DTEND;TZID=America/New_York:20261022T170000
END:VEVENT
END:VCALENDAR