BEGIN:VCALENDAR
VERSION:2.0
PRODID:spatie/icalendar-generator
NAME:Small Firm Success Series (10/22/2026)
X-WR-CALNAME:Small Firm Success Series (10/22/2026)
BEGIN:VTIMEZONE
TZID:America/New_York
BEGIN:DAYLIGHT
DTSTART:20260308T010000
TZOFFSETFROM:-0500
TZOFFSETTO:-0400
END:DAYLIGHT
BEGIN:STANDARD
DTSTART:20261101T010000
TZOFFSETFROM:-0400
TZOFFSETTO:-0500
END:STANDARD
BEGIN:DAYLIGHT
DTSTART:20270314T010000
TZOFFSETFROM:-0500
TZOFFSETTO:-0400
END:DAYLIGHT
END:VTIMEZONE
BEGIN:VTIMEZONE
TZID:UTC
BEGIN:STANDARD
DTSTART:20250727T230502
TZOFFSETFROM:+0000
TZOFFSETTO:+0000
END:STANDARD
END:VTIMEZONE
BEGIN:VEVENT
UID:69eaa59e7ce29
DTSTAMP:20260423T230502Z
SUMMARY:Small Firm Success Series (10/22/2026)
LOCATION: 
URL:https://macpa.org/catalog/events/21568971-small-firm-success-series-102
 22026-2026-22-10
DTSTART;TZID=America/New_York:20261022T140000
DTEND;TZID=America/New_York:20261022T150000
END:VEVENT
END:VCALENDAR