BEGIN:VCALENDAR
VERSION:2.0
PRODID:spatie/icalendar-generator
NAME:Lessee and Lessor Accounting
X-WR-CALNAME:Lessee and Lessor Accounting
BEGIN:VTIMEZONE
TZID:America/New_York
BEGIN:DAYLIGHT
DTSTART:20260308T010000
TZOFFSETFROM:-0500
TZOFFSETTO:-0400
END:DAYLIGHT
BEGIN:STANDARD
DTSTART:20261101T010000
TZOFFSETFROM:-0400
TZOFFSETTO:-0500
END:STANDARD
BEGIN:DAYLIGHT
DTSTART:20270314T010000
TZOFFSETFROM:-0500
TZOFFSETTO:-0400
END:DAYLIGHT
END:VTIMEZONE
BEGIN:VTIMEZONE
TZID:UTC
BEGIN:STANDARD
DTSTART:20250727T230647
TZOFFSETFROM:+0000
TZOFFSETTO:+0000
END:STANDARD
END:VTIMEZONE
BEGIN:VEVENT
UID:69eaa607923b8
DTSTAMP:20260423T230647Z
SUMMARY:Lessee and Lessor Accounting
LOCATION: 
URL:https://macpa.org/catalog/events/21568933-lessee-and-lessor-accounting-
 2026-20-10
DTSTART;TZID=America/New_York:20261020T110000
DTEND;TZID=America/New_York:20261020T130000
END:VEVENT
END:VCALENDAR