BEGIN:VCALENDAR
VERSION:2.0
PRODID:spatie/icalendar-generator
NAME:The Crucial Connection - Why You Should Care About Your Client's Syste
 m of Internal Control
X-WR-CALNAME:The Crucial Connection - Why You Should Care About Your Client
 's System of Internal Control
BEGIN:VTIMEZONE
TZID:America/New_York
BEGIN:DAYLIGHT
DTSTART:20260308T010000
TZOFFSETFROM:-0500
TZOFFSETTO:-0400
END:DAYLIGHT
BEGIN:STANDARD
DTSTART:20261101T010000
TZOFFSETFROM:-0400
TZOFFSETTO:-0500
END:STANDARD
BEGIN:DAYLIGHT
DTSTART:20270314T010000
TZOFFSETFROM:-0500
TZOFFSETTO:-0400
END:DAYLIGHT
END:VTIMEZONE
BEGIN:VTIMEZONE
TZID:UTC
BEGIN:STANDARD
DTSTART:20250727T230647
TZOFFSETFROM:+0000
TZOFFSETTO:+0000
END:STANDARD
END:VTIMEZONE
BEGIN:VEVENT
UID:69eaa607905c9
DTSTAMP:20260423T230647Z
SUMMARY:The Crucial Connection - Why You Should Care About Your Client's Sy
 stem of Internal Control
LOCATION: 
URL:https://macpa.org/catalog/events/21568932-the-crucial-connection-why-yo
 u-should-care-about-your-clients-system-of-internal-control-2026-20-10
DTSTART;TZID=America/New_York:20261020T100000
DTEND;TZID=America/New_York:20261020T113000
END:VEVENT
END:VCALENDAR